BEGIN:VCALENDAR
VERSION:2.0
PRODID:-//wp-events-plugin.com//6.5//EN
BEGIN:VEVENT
UID:27-7910@stockholm.swea.org
DTSTART:20250305T130000Z
DTEND:20250305T144500Z
DTSTAMP:20250211T201311Z
URL:https://stockholm.swea.org/events/onsdag-5-mars-manadslunch-pa-nordisk
 a-kantinen-nk-3/
SUMMARY:Onsdag 5 mars: Månadslunch på Nordiska Kantinen\, NK
DESCRIPTION:Vi testar bricklunch på Nordiska Kantinen\, belägen intill Bo
 bergs Matsal på plan fyra i NK\, är stjärnkrögarna Pi Le och Tommy Myl
 lymäkis hyllning till svensk husmanskost. För att undvika den värsta lu
 nchrusningen ses vi lite senare än vanligt\, kl 13.00.  https://nordisk
 akantinen.se/\n\nPå grund av att Restaurang Djurgårdsbron renoverar loka
 lerna så besöker vi andra ställen för våra månadsluncher.\n\nTid: k
 l 13.00 (de stänger kl 15.00)\nPlats: NK\, Hamngatan 18\, plan 4. Nordi
 ska Kantinen.\nAnmälan: Ingen anmälan behövs. Ta gärna på dig din na
 mnbricka.
ATTACH;FMTTYPE=image/jpeg:https://stockholm.swea.org/wp-content/uploads/si
 tes/27/2025/02/78e3050d-2d70-bb66-30a7-0e6488816cd9.jpg
END:VEVENT
END:VCALENDAR